BEGIN:VCALENDAR
VERSION:2.0
PRODID:-//CRADESC - ECPv6.15.20//NONSGML v1.0//EN
CALSCALE:GREGORIAN
METHOD:PUBLISH
X-WR-CALNAME:CRADESC
X-ORIGINAL-URL:https://cradesc.org
X-WR-CALDESC:Events for CRADESC
REFRESH-INTERVAL;VALUE=DURATION:PT1H
X-Robots-Tag:noindex
X-PUBLISHED-TTL:PT1H
BEGIN:VTIMEZONE
TZID:UTC
BEGIN:STANDARD
TZOFFSETFROM:+0000
TZOFFSETTO:+0000
TZNAME:UTC
DTSTART:20240101T000000
END:STANDARD
END:VTIMEZONE
BEGIN:VEVENT
DTSTART;VALUE=DATE:20251030
DTEND;VALUE=DATE:20251031
DTSTAMP:20260422T005843
CREATED:20251028T164406Z
LAST-MODIFIED:20251028T164526Z
UID:3489-1761782400-1761868799@cradesc.org
SUMMARY:Constitutive general assembly of the cooperative society of oyster farming actors from the communes of Fimela\, Joal\, and Palmarin on October 30\, 2025\, in Palmarin.
DESCRIPTION:As part of its activities supporting the structuring of farmers’ organizations\, CRADESC will facilitate the holding of the constitutive general assembly of the cooperative society of oyster farmers from the municipalities of Fimela\, Joal\, and Palmarin on October 30 in Palmarin. \nThis meeting will bring together organizations working in the harvesting\, processing\, and sale of seafood; individual producers; administrative authorities; and many other stakeholders.
URL:https://cradesc.org/en/event/constitutive-general-assembly-of-the-cooperative-society-of-oyster-farming-actors-from-the-communes-of-fimela-joal-and-palmarin-on-october-30-2025-in-palmarin/
CATEGORIES:Food security and resilience
END:VEVENT
BEGIN:VEVENT
DTSTART;VALUE=DATE:20251223
DTEND;VALUE=DATE:20251224
DTSTAMP:20260422T005843
CREATED:20251219T180035Z
LAST-MODIFIED:20251219T180231Z
UID:3839-1766448000-1766534399@cradesc.org
SUMMARY:Kédougou: Community Forum on the Just Energy Transition as part of the RECANE project
DESCRIPTION:Online translation – \nThe Kédougou region will host a community forum on December 23\, 2025\, organized as part of the project Strengthening the Capacities of Non-State Actors (RECANE) for the implementation of the Just Energy Transition Partnership (JETP) in Senegal. \nThis meeting aims to promote social ownership of the just energy transition process by local communities in southeastern Senegal\, encouraging dialogue\, information sharing\, and participation of the various stakeholders involved. \nThe forum will bring together representatives from local authorities\, mining companies and cooperatives\, gold panners\, farmers’ organizations and livestock associations\, women and youth from rural areas\, decentralized technical services\, as well as researchers\, students\, and regional institutions. \nThe RECANE project is implemented by CRADESC\, in partnership with the African Climate Foundation (ACF).
URL:https://cradesc.org/en/event/kedougou-forum-communautaire-sur-la-transition-energetique-juste-dans-le-cadre-du-projet-recane/
CATEGORIES:Climate justice and energy transition
END:VEVENT
BEGIN:VEVENT
DTSTART;VALUE=DATE:20251223
DTEND;VALUE=DATE:20251224
DTSTAMP:20260422T005843
CREATED:20251219T175221Z
LAST-MODIFIED:20251219T175411Z
UID:3832-1766448000-1766534399@cradesc.org
SUMMARY:Foundiougne: Capacity Building Workshop for Fishermen on the Issues and Risks Related to SANGOMAR Oil Exploitation
DESCRIPTION:Online translation \nA capacity-building workshop for fishermen on the issues and risks related to the exploitation of SANGOMAR oil will be held on December 23 in Foundiougne. \nThis meeting aims to strengthen the knowledge and engagement of fishing communities on the issues and risks associated with the exploitation of the Sangomar oil project in order to promote sustainable fishing\, environmental protection\, and the defense of the socio-economic rights of local populations. \nIt will bring together artisanal fishermen\, fish traders\, processors\, representatives of technical services\, community organizations (GIE\, local associations)\, NGOs\, and projects involved in fishing. \nThe workshop is organized by CRADESC in partnership with the ETF Foundation.
URL:https://cradesc.org/en/event/foundiougne-atelier-de-renforcement-des-capacites-des-pecheurs-sur-les-enjeux-et-les-risques-lies-a-lexploitation-du-petrole-de-sangomar/
LOCATION:Foundiougne\, Foundiougne
CATEGORIES:Climate justice and energy transition
END:VEVENT
END:VCALENDAR