BEGIN:VCALENDAR
VERSION:2.0
PRODID:-//CRADESC - ECPv6.15.20//NONSGML v1.0//EN
CALSCALE:GREGORIAN
METHOD:PUBLISH
X-ORIGINAL-URL:https://cradesc.org
X-WR-CALDESC:Évènements pour CRADESC
REFRESH-INTERVAL;VALUE=DURATION:PT1H
X-Robots-Tag:noindex
X-PUBLISHED-TTL:PT1H
BEGIN:VTIMEZONE
TZID:UTC
BEGIN:STANDARD
TZOFFSETFROM:+0000
TZOFFSETTO:+0000
TZNAME:UTC
DTSTART:20240101T000000
END:STANDARD
END:VTIMEZONE
BEGIN:VEVENT
DTSTART;TZID=UTC:20250528T080000
DTEND;TZID=UTC:20250528T170000
DTSTAMP:20260421T215823
CREATED:20250507T141806Z
LAST-MODIFIED:20250507T141806Z
UID:2166-1748419200-1748451600@cradesc.org
SUMMARY:ATELIER DE RENFORCEMENT DES CAPACITES DES ELUS LOCAUX DE LA ZONE DES NIAYES POUR FACILITER LA MISE EN ŒUVRE DU PARTENARIAT POUR UNE TRANSITION ENERGETIQUE JUSTE (JETP)
DESCRIPTION:Le CRADESC organise un atelier de renforcement des capacités des élus locaux de la zone des NIAYES pour faciliter la mise en œuvre du Partenariat pour une Transition Energétique Juste (JETP) au Sénégal le 28 mai 2025 à Taïba NDIAYE\, région de Thiès\, en partenariat avec The African Climate Foundation (ACF). \nL’objectif est de sensibiliser les élus locaux à la nécessité d’une appropriation sociale du JETP par l’ensemble des parties prenantes. \nCet atelier constitue une étape cruciale pour garantir l’adhésion et l’implication des élus locaux dans la transition énergétique juste au Sénégal.
URL:https://cradesc.org/event/atelier-de-renforcement-des-capacites-des-elus-locaux-de-la-zone-des-niayes-pour-faciliter-la-mise-en-oeuvre-du-partenariat-pour-une-transition-energetique-juste-jetp/
LOCATION:taiba ndiaye\, Thies
CATEGORIES:Changement climatique,JETP
END:VEVENT
BEGIN:VEVENT
DTSTART;TZID=UTC:20250528T080000
DTEND;TZID=UTC:20250529T170000
DTSTAMP:20260421T215823
CREATED:20250526T185514Z
LAST-MODIFIED:20250527T124421Z
UID:2886-1748419200-1748538000@cradesc.org
SUMMARY:Atelier national de renforcement des capacités des élus locaux pour une prise en compte des enjeux territoriaux dans le cadre du Partenariat pour une Transition Energétique Juste (JETP) au Sénégal
DESCRIPTION:L’atelier national de renforcement des capacités des élus locaux pour une prise en compte des enjeux territoriaux dans le cadre du Partenariat pour une Transition Energétique Juste (JETP) au Sénégal aura lieu le 28 et le 29 mai 2025 à Azalai hôte à Dakar à partir de 8H00. \nL’objectif de ce forum organisé par le CRADESC est de renforcer les capacités des élus locaux pour une meilleure prise en compte des enjeux territoriaux  dans la mise en œuvre du JETP au Sénégal. \nLa rencontre verra la participation des représentants du Ministère de l’Énergie\, du pétrole  et des Mines\, du Ministère de l’environnement et de la transition écologique\, du Ministère de l’agriculture\, des collectivités territoriales\, de l’association des Maires du Sénégal/AMS\, du Réseau des élus locaux pour la justice climatique\, des organisations de la société civile\, des PME\, des opérateurs économiques\, des institutions académiques et de recherche\, des Partenaires techniques et financiers et des médias.
URL:https://cradesc.org/event/atelier-national-de-renforcement-des-capacites-des-elus-locaux-pour-une-prise-en-compte-des-enjeux-territoriaux-dans-le-cadre-du-partenariat-pour-une-transition-energetique-juste-jetp-au-senegal/
LOCATION:hotel Azalai\, Dakar\, Senegal
CATEGORIES:Justice climatique et transition énergétique
END:VEVENT
END:VCALENDAR