BEGIN:VCALENDAR
VERSION:2.0
PRODID:-//CRADESC - ECPv6.15.20//NONSGML v1.0//EN
CALSCALE:GREGORIAN
METHOD:PUBLISH
X-WR-CALNAME:CRADESC
X-ORIGINAL-URL:https://cradesc.org
X-WR-CALDESC:Évènements pour CRADESC
REFRESH-INTERVAL;VALUE=DURATION:PT1H
X-Robots-Tag:noindex
X-PUBLISHED-TTL:PT1H
BEGIN:VTIMEZONE
TZID:UTC
BEGIN:STANDARD
TZOFFSETFROM:+0000
TZOFFSETTO:+0000
TZNAME:UTC
DTSTART:20240101T000000
END:STANDARD
END:VTIMEZONE
BEGIN:VEVENT
DTSTART;TZID=UTC:20251113T080000
DTEND;TZID=UTC:20251113T163000
DTSTAMP:20260421T203127
CREATED:20251107T114318Z
LAST-MODIFIED:20251107T114318Z
UID:3621-1763020800-1763051400@cradesc.org
SUMMARY:Atelier de validation communautaire du recours réactif par les communautés du Delta du Saloum
DESCRIPTION:Un atelier de validation communautaire du recours réactif par les communautés du Delta du Saloum se tiendra le 13 novembre 2025 à Foundiougne\, dans le Delta du Saloum. \nCet atelier fait suite aux menaces croissantes des projets pétroliers sur le Delta du Saloum\, site inscrit au patrimoine mondial de l’humanité par l’UNESCO en 2011. \nDepuis quelques années\, cette zone fait face à une pression croissante due à des projets extractifs\, en particulier les projets pétroliers et gaziers offshore développés dans les blocs voisins\, dont celui de Sangomar. \nLe CRADESC a initié et accompagné un processus de documentation des impacts et de sensibilisation communautaire et a élaboré un projet de recours fondé sur des investigations de terrain et une analyse critique des dispositifs environnementaux et patrimoniaux applicables.
URL:https://cradesc.org/event/atelier-de-validation-communautaire-du-recours-reactif-par-les-communautes-du-delta-du-saloum/
CATEGORIES:Justice climatique et transition énergétique
END:VEVENT
END:VCALENDAR