BEGIN:VCALENDAR
VERSION:2.0
PRODID:-//CRADESC - ECPv6.15.20//NONSGML v1.0//EN
CALSCALE:GREGORIAN
METHOD:PUBLISH
X-WR-CALNAME:CRADESC
X-ORIGINAL-URL:https://cradesc.org
X-WR-CALDESC:Évènements pour CRADESC
REFRESH-INTERVAL;VALUE=DURATION:PT1H
X-Robots-Tag:noindex
X-PUBLISHED-TTL:PT1H
BEGIN:VTIMEZONE
TZID:UTC
BEGIN:STANDARD
TZOFFSETFROM:+0000
TZOFFSETTO:+0000
TZNAME:UTC
DTSTART:20230101T000000
END:STANDARD
END:VTIMEZONE
BEGIN:VEVENT
DTSTART;TZID=UTC:20240603T150000
DTEND;TZID=UTC:20240609T180000
DTSTAMP:20260422T022405
CREATED:20240528T190719Z
LAST-MODIFIED:20240602T190758Z
UID:30-1717426800-1717956000@cradesc.org
SUMMARY:Débattons  :  L'intégration régionale en Afrique de l'Ouest\, notamment avec la CEDEAO\, est-elle bénéfique pour le Sénégal ?
DESCRIPTION:Dans ce contexte\, les Droits Economiques\, Sociaux et Culturels (DESC) occupent une position secondaire dans les agendas de mise en œuvre des droits de l’homme\, malgré leurs liens intrinsèques avec la réalisation des Objectifs de Développement Durable (ODD).
URL:https://cradesc.org/event/debattons-lintegration-regionale-en-afrique-de-louest-notamment-avec-la-cedeao-est-elle-benefique-pour-le-senegal/
CATEGORIES:tournoi - débat
END:VEVENT
END:VCALENDAR