BEGIN:VCALENDAR
VERSION:2.0
PRODID:-//CRADESC - ECPv6.15.20//NONSGML v1.0//EN
CALSCALE:GREGORIAN
METHOD:PUBLISH
X-WR-CALNAME:CRADESC
X-ORIGINAL-URL:https://cradesc.org
X-WR-CALDESC:Évènements pour CRADESC
REFRESH-INTERVAL;VALUE=DURATION:PT1H
X-Robots-Tag:noindex
X-PUBLISHED-TTL:PT1H
BEGIN:VTIMEZONE
TZID:UTC
BEGIN:STANDARD
TZOFFSETFROM:+0000
TZOFFSETTO:+0000
TZNAME:UTC
DTSTART:20230101T000000
END:STANDARD
END:VTIMEZONE
BEGIN:VEVENT
DTSTART;TZID=UTC:20241128T150000
DTEND;TZID=UTC:20241128T170000
DTSTAMP:20260421T220143
CREATED:20241126T151222Z
LAST-MODIFIED:20241126T155905Z
UID:1455-1732806000-1732813200@cradesc.org
SUMMARY:Réunion de la Plateforme des Acteurs de la Société Civile pour une Transition Energétique Juste (PACTEJ)
DESCRIPTION:La Plateforme des Acteurs de la Société Civile pour une Transition Energétique Juste (PACTEJ) tiendra une réunion le 28 novembre 2024 à 15H00 GMT dans les locaux du CRADESC\, sis Cité COSEPI\, Ngor Almadies (derrière la station EYDON)\, Dakar\, Sénégal. \nC’est la première rencontre depuis l’installation de cette plateforme dont CRADESC assure la coordination. \nLes participants vont poursuivre les échanges pour finaliser le plan d’action.
URL:https://cradesc.org/event/reunion-de-la-plateforme-des-acteurs-de-la-societe-civile-pour-une-transition-energetique-juste-pactej/
LOCATION:Ngor\, Cité COSEPI\, Ngor Almadies\, Dakar\, Senegal
END:VEVENT
BEGIN:VEVENT
DTSTART;VALUE=DATE:20241107
DTEND;VALUE=DATE:20241108
DTSTAMP:20260421T220143
CREATED:20241009T114837Z
LAST-MODIFIED:20241009T114837Z
UID:1318-1730937600-1731023999@cradesc.org
SUMMARY:Atelier de capitalisation du Projet d’Appui stratégique aux Travailleuses Domestiques (PASTDOM)
DESCRIPTION:L’intérêt de cet atelier de capitalisation est de faire le point sur les réalisations du projet\, analyser les obstacles rencontrés et identifier des pistes d’amélioration. Il portera sur les deux premières phases du PASTDOM mis en œuvre entre 2021 et 2024 et se tiendra le 07 novembre 2024\, à l’Hôtel Novotel de Dakar.
URL:https://cradesc.org/event/atelier-de-capitalisation-du-projet-dappui-strategique-aux-travailleuses-domestiques-pastdom/
LOCATION:Hôtel Novotel\, Sénégal
END:VEVENT
BEGIN:VEVENT
DTSTART;VALUE=DATE:20241105
DTEND;VALUE=DATE:20241107
DTSTAMP:20260421T220143
CREATED:20241027T170121Z
LAST-MODIFIED:20241027T170709Z
UID:1344-1730764800-1730937599@cradesc.org
SUMMARY:Consultations sur les politiques publiques globales de lutte contre la xénophobie et son impact sur les droits des migrants en Afrique
DESCRIPTION:Le Comité des Nations Unies pour l’Elimination de la Discrimination Raciale (CERD) et le Comité pour la protection des droits de tous les travailleurs migrants et des membres de leur famille (CMW) organisent des Consultations d’experts continentaux pour l’Afrique sur les politiques publiques globales visant de lutte contre la xénophobie et son impact sur les droits des migrants\, de leurs familles et des autres non-nationaux (ou perçus comme tels) touchés par la discrimination raciale et tous les motifs recoupant de discrimination. \nLa rencontre prévue les 5 et 6 novembre 2024 à l’hôtel Novotel de Dakar est co-organisée par le CRADESC.
URL:https://cradesc.org/event/consultations-sur-les-politiques-publiques-globales-de-lutte-contre-la-xenophobie-et-son-impact-sur-les-droits-des-migrants-en-afrique/
LOCATION:Hôtel Novotel\, Dakar
END:VEVENT
BEGIN:VEVENT
DTSTART;VALUE=DATE:20241104
DTEND;VALUE=DATE:20241105
DTSTAMP:20260421T220143
CREATED:20241009T113045Z
LAST-MODIFIED:20241009T113729Z
UID:1313-1730678400-1730764799@cradesc.org
SUMMARY:Atelier de partage des résultats des études sur les violations des droits économiques\, sociaux et culturels des travailleurs/travailleuses domestiques en Afrique de l’ouest
DESCRIPTION:L’atelier de partage des résultats des études sur les violations des droits économiques\, sociaux et culturels des travailleurs/travailleuses domestiques en Afrique de l’ouest (Bénin\, Burkina Fasso\, Cote d’Ivoire\, Gambie\, Guinée Conakry\, Mali\, Mauritanie\, Sénégal et Togo) se tiendra avec les Institutions Nationales des Droits de l’Homme (INDH) le 04 novembre 2024 à l’Hôtel Novotel de Dakar. \nL’étude a été réalisée par le CRADESC en partenariat avec la Fondation pour une Société Juste (FJS) dans le cadre du Projet d’Appui stratégique aux Travailleuses Domestiques (PASTDOM).
URL:https://cradesc.org/event/atelier-de-partage-des-resultats-des-etudes-sur-les-violations-des-droits-economiques-sociaux-et-culturels-des-travailleurs-travailleuses-domestiques-en-afrique-de-louest/
LOCATION:Hôtel Novotel\, Sénégal
END:VEVENT
BEGIN:VEVENT
DTSTART;VALUE=DATE:20241026
DTEND;VALUE=DATE:20241030
DTSTAMP:20260421T220143
CREATED:20241009T110217Z
LAST-MODIFIED:20241111T150528Z
UID:1310-1729900800-1730246399@cradesc.org
SUMMARY:Réunions de restitution du Protocole communautaire bioculturel dans le Delta du Saloum
DESCRIPTION:Cette activité qui se tiendra durant quatre (4) jours successivement à Joal\, Foundiougne\, Bettenty et Toubacouta du 26 au 29 octobre 2024 verra la participation des communautés qui avaient contribué à la collecte des données lors des réunions communautaires.
URL:https://cradesc.org/event/reunions-de-restitution-du-protocole-communautaire-bioculturel-dans-le-delta-du-saloum/
LOCATION:Delta du Saloum\, Sénégal
END:VEVENT
BEGIN:VEVENT
DTSTART;VALUE=DATE:20241022
DTEND;VALUE=DATE:20241024
DTSTAMP:20260421T220143
CREATED:20241009T102159Z
LAST-MODIFIED:20241009T102503Z
UID:1303-1729555200-1729727999@cradesc.org
SUMMARY:LANCEMENT DE LA DEUXIEME PHASE DU PROGRAMME D’ACCOMPAGENEMENT DES AGRICULTEURS DES NIAYES (PAAN 2)
DESCRIPTION:L’atelier de lancement de cette deuxième phase du programme d’appui aux agriculteurs des Niayes aura lieu les 22 et 23 octobre 2024 à la salle du Casino Léopold S. Senghor de Thiès suivi d’une foire aux produits agricoles locaux. Cette activité est organisée en partenariat avec le Réseau national des femmes rurales du Sénégal (RNFRS) qui est une organisation de défense et de promotion des droits des femmes\, notamment l’accès au foncier.
URL:https://cradesc.org/event/lancement-de-la-deuxieme-phase-du-programme-daccompagenement-des-agriculteurs-des-niayes-paan-2/
LOCATION:Casino Léopold S. Senghor de Thiès\, Thies\, Sénégal
END:VEVENT
BEGIN:VEVENT
DTSTART;TZID=UTC:20240603T150000
DTEND;TZID=UTC:20240609T180000
DTSTAMP:20260421T220143
CREATED:20240528T190719Z
LAST-MODIFIED:20240602T190758Z
UID:30-1717426800-1717956000@cradesc.org
SUMMARY:Débattons  :  L'intégration régionale en Afrique de l'Ouest\, notamment avec la CEDEAO\, est-elle bénéfique pour le Sénégal ?
DESCRIPTION:Dans ce contexte\, les Droits Economiques\, Sociaux et Culturels (DESC) occupent une position secondaire dans les agendas de mise en œuvre des droits de l’homme\, malgré leurs liens intrinsèques avec la réalisation des Objectifs de Développement Durable (ODD).
URL:https://cradesc.org/event/debattons-lintegration-regionale-en-afrique-de-louest-notamment-avec-la-cedeao-est-elle-benefique-pour-le-senegal/
CATEGORIES:tournoi - débat
END:VEVENT
END:VCALENDAR