BEGIN:VCALENDAR
VERSION:2.0
PRODID:-//CRADESC - ECPv6.15.20//NONSGML v1.0//EN
CALSCALE:GREGORIAN
METHOD:PUBLISH
X-ORIGINAL-URL:https://cradesc.org
X-WR-CALDESC:Évènements pour CRADESC
REFRESH-INTERVAL;VALUE=DURATION:PT1H
X-Robots-Tag:noindex
X-PUBLISHED-TTL:PT1H
BEGIN:VTIMEZONE
TZID:UTC
BEGIN:STANDARD
TZOFFSETFROM:+0000
TZOFFSETTO:+0000
TZNAME:UTC
DTSTART:20250101T000000
END:STANDARD
END:VTIMEZONE
BEGIN:VEVENT
DTSTART;VALUE=DATE:20260414
DTEND;VALUE=DATE:20260415
DTSTAMP:20260422T224652
CREATED:20260412T145635Z
LAST-MODIFIED:20260414T131136Z
UID:4133-1776124800-1776211199@cradesc.org
SUMMARY:Atelier de renforcement des capacités des leaders communautaires sur les mécanismes de recours environnementaux le 14 avril à Foundiougne
DESCRIPTION:Un atelier de renforcement de capacités des leaders communautaires sur les mécanismes de recours en matière environnementale se tient le 14 avril à Foundiougne\, dans le Delta du Saloum. \nL’objectif est de renforcer leurs capacités à comprendre et utiliser efficacement ces mécanismes pour défendre leurs droits et préserver leurs moyens de subsistance. \nLe Delta du Saloum est menacé par des pressions environnementales et des impacts liés aux activités extractives. L’atelier regroupe des chefs de village\, des femmes et jeunes leaders\, des organisations communautaires de base\, des acteurs de la pêche\, de l’agriculture et des acteurs de la société civile. \nLe CRADESC s’engage ainsi à renforcer la résilience des communautés locales à travers la production de données probantes\, la formation et le plaidoyer pour la justice environnementale.
URL:https://cradesc.org/event/atelier-de-renforcement-des-capacites-des-leaders-communautaires-sur-les-mecanismes-de-recours-en-matiere-environnementale/
CATEGORIES:Justice climatique et transition énergétique
END:VEVENT
BEGIN:VEVENT
DTSTART;TZID=UTC:20260505T080000
DTEND;TZID=UTC:20260505T170000
DTSTAMP:20260422T224652
CREATED:20260422T144951Z
LAST-MODIFIED:20260422T144951Z
UID:4176-1777968000-1778000400@cradesc.org
SUMMARY:Forum national le 5 mai à Abidjan pour garantir la protection effective des droits des travailleuses domestiques
DESCRIPTION:Le CRADESC en partenariat avec FJS (Fondation pour une Société Juste) organisent un Forum national le 5 mai à l’hôtel Palm Club d’Abidjan. \nL’objectif est de renforcer le dialogue multi‑acteurs et de promouvoir une meilleure compréhension\, appropriation et amélioration du cadre juridique\, des mécanismes de protection sociale et sanitaire ainsi que la régulation des agences de placement dans le secteur du travail domestique. La finalité est de garantir la protection effective des droits des travailleuses domestiques. \nL’événement réunira des acteurs institutionnels et de la société civile\, des syndicats\, des associations ainsi que les L’Association pour la Défense des Droits des Aide-ménagères (ADDAD).
URL:https://cradesc.org/event/forum-national-le-5-mai-a-abidjan-pour-garantir-la-protection-effective-des-droits-des-travailleuses-domestiques/
LOCATION:Abidjan\, Palm Club\, Abidjan\, Côte d'Ivoire
CATEGORIES:DESC et Genre
END:VEVENT
END:VCALENDAR