BEGIN:VCALENDAR
VERSION:2.0
PRODID:-//CRADESC - ECPv6.15.20//NONSGML v1.0//EN
CALSCALE:GREGORIAN
METHOD:PUBLISH
X-ORIGINAL-URL:https://cradesc.org
X-WR-CALDESC:Évènements pour CRADESC
REFRESH-INTERVAL;VALUE=DURATION:PT1H
X-Robots-Tag:noindex
X-PUBLISHED-TTL:PT1H
BEGIN:VTIMEZONE
TZID:UTC
BEGIN:STANDARD
TZOFFSETFROM:+0000
TZOFFSETTO:+0000
TZNAME:UTC
DTSTART:20240101T000000
END:STANDARD
END:VTIMEZONE
BEGIN:VEVENT
DTSTART;TZID=UTC:20250319T090000
DTEND;TZID=UTC:20250319T120000
DTSTAMP:20260422T005734
CREATED:20250314T084701Z
LAST-MODIFIED:20250314T093932Z
UID:1772-1742374800-1742385600@cradesc.org
SUMMARY:Réunion d’information sur le processus de mise en place d’une société coopérative à l’intention des agriculteurs des Niayes en situation de handicap
DESCRIPTION:Une réunion d’information sur le processus de mise en place d’une société coopérative se tiendra le mercredi 19 mars 2025 à Mboro\, région de Thiès\, à l’intention des agriculteurs des Niayes en situation de handicap. \nElle sera suivie de la mise en place d’un comité chargé de piloter et de mener le travail de sensibilisation devant aboutir à la création d’une société coopérative des agricultures des Niayes. \nC’est une activité qui entre dans le cadre de la deuxième phase du Programme d’Appui des Agriculteurs des Niayes (PAAN 2) du Programme sécurité alimentaire et résilience du CRADESC en partenariat avec la Fondation Robert Bosch. \nLes sociétés coopératives contribuent à répondre aux défis de la commercialisation de l’importante production horticole de la zone des Niayes.
URL:https://cradesc.org/event/reunion-dinformation-sur-le-processus-de-mise-en-place-dune-societe-cooperative-a-lintention-des-agriculteurs-des-niayes-en-situation-de-handicap/
LOCATION:Mboro
END:VEVENT
END:VCALENDAR