BEGIN:VCALENDAR
VERSION:2.0
PRODID:-//CRADESC - ECPv6.15.20//NONSGML v1.0//EN
CALSCALE:GREGORIAN
METHOD:PUBLISH
X-ORIGINAL-URL:https://cradesc.org
X-WR-CALDESC:Évènements pour CRADESC
REFRESH-INTERVAL;VALUE=DURATION:PT1H
X-Robots-Tag:noindex
X-PUBLISHED-TTL:PT1H
BEGIN:VTIMEZONE
TZID:UTC
BEGIN:STANDARD
TZOFFSETFROM:+0000
TZOFFSETTO:+0000
TZNAME:UTC
DTSTART:20240101T000000
END:STANDARD
END:VTIMEZONE
BEGIN:VEVENT
DTSTART;VALUE=DATE:20250703
DTEND;VALUE=DATE:20250704
DTSTAMP:20260421T190642
CREATED:20250630T145424Z
LAST-MODIFIED:20250701T141137Z
UID:3034-1751500800-1751587199@cradesc.org
SUMMARY:Atelier de renforcement des capacités des journalistes sur la Transition énergétique juste au Sénégal
DESCRIPTION:Un important atelier de renforcement des capacités des journalistes sur la transition énergétique juste se tient le 3 juillet 2025 à la Maison de la presse à Dakar. \nQuarante journalistes de Dakar et des régions sont conviés à cette activité dont l’objectif est de contribuer à faire des Hommes des médias des acteurs incontournables pour une transition énergétique équitable. \nCette activité entre dans le cadre du projet de Renforcement de Capacités des Acteurs Non Etatiques (RECANE) pour une transition énergétique juste au Sénégal. \nL’atelier est organisé en partenariat avec la Maison de la presse\, le Centre d’Etudes des Sciences et Techniques de l’Information (CESTI) et Action for Climate Justice (ACF – partenaire clé du CRADESC dans le cadre du projet RECANE).
URL:https://cradesc.org/event/atelier-de-renforcement-des-capacites-des-journalistes-sur-la-transition-energetique-juste-et-du-jetp-au-senegal/
LOCATION:Maison de la Presse Babacar Touré\, Dakar\, Senegal
CATEGORIES:JETP,Justice climatique et transition énergétique
END:VEVENT
BEGIN:VEVENT
DTSTART;VALUE=DATE:20250703
DTEND;VALUE=DATE:20250704
DTSTAMP:20260421T190642
CREATED:20250701T141411Z
LAST-MODIFIED:20250701T141411Z
UID:3069-1751500800-1751587199@cradesc.org
SUMMARY:Assemblée Générale Constitutive de la société coopérative des acteurs de l’apiculture des communes de Diossong\, Sokone et Toubacouta
DESCRIPTION:Le CRADESC poursuit ses activités d’accompagnement des organisations locales du delta du Saloum pour renforcer leur résilience économique\, en partenariat avec Ford Foundation. A cet effet\, le Centre va faciliter la tenue de l’Assemblée Générale Constitutive de la société coopérative des acteurs de l’apiculture des communes de Diossong\, Sokone et Toubacouta le 3 juillet 2025 à Toubacouta. \nL’objectif est de mettre en place une société coopérative. \nSont attendus à cette rencontre\, des GIE et transformatrices de miel\, les services déconcentrés\, les partenaires au développement\, le représentant de l’Organisation Internationale du Travail (OIT) dans le delta ainsi que le Maire de la commune de Toubacouta.
URL:https://cradesc.org/event/assemblee-generale-constitutive-de-la-societe-cooperative-des-acteurs-de-lapiculture-des-communes-de-diossong-sokone-et-toubacouta/
LOCATION:Toubacouta\, Toubacouta\, Senegal
CATEGORIES:Sécurité alimentaire et résilience
END:VEVENT
BEGIN:VEVENT
DTSTART;VALUE=DATE:20250708
DTEND;VALUE=DATE:20250709
DTSTAMP:20260421T190642
CREATED:20250705T125605Z
LAST-MODIFIED:20250705T131213Z
UID:3144-1751932800-1752019199@cradesc.org
SUMMARY:Formation sur le plaidoyer et atelier d'élaboration d'une stratégie de communication pour renforcer la résilience des communautés du delta du Saloum\, 8 et 9 juillet à Foundiougne
DESCRIPTION:Il cible les acteurs locaux engagés dans la lutte contre l’exploitation du pétrole.. Il sera suivi le lendemain par l’élaboration d’une stratégie de communication du comité de pilotage chargé de coordonner et de dynamiser les initiatives de développement durable du delta du Saloum. \nCes activités organisées successivement en partenariat avec la Fondation Ford et ETF entrent dans le cadre de la politique de renforcement de la résilience des communautés du delta du Saloum menacées par l’extraction du pétrole de Sangomar et le changement climatique.
URL:https://cradesc.org/event/un-atelier-de-formation-sur-le-plaidoyer-se-tient-le-8-juillet-2025-a-foundiougne/
CATEGORIES:Justice climatique et transition énergétique
END:VEVENT
BEGIN:VEVENT
DTSTART;VALUE=DATE:20250718
DTEND;VALUE=DATE:20250719
DTSTAMP:20260421T190642
CREATED:20250705T200625Z
LAST-MODIFIED:20250711T184910Z
UID:3153-1752796800-1752883199@cradesc.org
SUMMARY:Forum communautaire sur l’appropriation sociale du Partenariat pour une Transition Energétique Juste (JETP) au Sénégal dans le delta du Saloum le 18 juillet 2025 à Fatick.
DESCRIPTION:Un forum communautaire sur les défis et perspectives de l’appropriation sociale du Partenariat pour une Transition Energétique Juste (JETP) au Sénégal  dans le delta du Saloum se tiendra le 18 juillet 2025 dans la région de Fatick. \nL’objectif est de favoriser l’appropriation sociale du processus de transition énergétique juste par les communautés locales du delta du Saloum à travers un dialogue inclusif et participatif et de renforcer la participation des acteurs locaux aux mécanismes de gouvernance de la transition énergétique. \nAprès la région de Saint-Louis\, ce forum est le deuxième du genre articulé sur l’inclusion des communautés. \nL’atelier est organisé en partenariat avec African Climate Foundation (ACF) dans le cadre du projet de renforcement des capacités des acteurs non étatiques pour la mise en œuvre du JETP au Sénégal.
URL:https://cradesc.org/event/forum-communautaire-sur-lappropriation-sociale-du-partenariat-pour-une-transition-energetique-juste-jetp-au-senegal-dans-le-delta-du-saloum-le-17-juillet-2025-a-fatick/
LOCATION:Fatick\, Senegal
CATEGORIES:JETP,Justice climatique et transition énergétique
END:VEVENT
END:VCALENDAR