BEGIN:VCALENDAR
VERSION:2.0
PRODID:-//CRADESC - ECPv6.15.20//NONSGML v1.0//EN
CALSCALE:GREGORIAN
METHOD:PUBLISH
X-ORIGINAL-URL:https://cradesc.org
X-WR-CALDESC:Évènements pour CRADESC
REFRESH-INTERVAL;VALUE=DURATION:PT1H
X-Robots-Tag:noindex
X-PUBLISHED-TTL:PT1H
BEGIN:VTIMEZONE
TZID:UTC
BEGIN:STANDARD
TZOFFSETFROM:+0000
TZOFFSETTO:+0000
TZNAME:UTC
DTSTART:20240101T000000
END:STANDARD
END:VTIMEZONE
BEGIN:VEVENT
DTSTART;TZID=UTC:20251015T090000
DTEND;TZID=UTC:20251015T150000
DTSTAMP:20260421T173156
CREATED:20251013T094836Z
LAST-MODIFIED:20251013T160539Z
UID:3445-1760518800-1760540400@cradesc.org
SUMMARY:Célébration de la Journée internationale de la femme rurale à Darou Khoudoss
DESCRIPTION:À l’occasion de la Journée internationale de la femme rurale\, célébrée chaque 15 octobre\, le CRADESC\, en partenariat avec le Cadre de Concertation et de Développement des Niayes (CCDN)\, rend hommage aux femmes rurales le même jour à Darou Khoudoss (département de Tivaouane) à partir de 9h00 sous le thème : « Femmes rurales\, actrices de développement et de résilience pour la justice climatique ». \nCette journée vise à mettre en lumière l’engagement\, la résilience et le rôle déterminant des femmes rurales dans la promotion du développement durable et la lutte contre les changements climatiques. \nParmi les participants\, il y aura les femmes des coopératives agricoles\, des groupements féminins\, des associations locales de la zone des Niayes et du delta du Saloum. L’événement réunira également des représentants des ministères de la Femme\, de l’Environnement\, de l’Agriculture\, des collectivités territoriales\, ainsi que des organisations de la société civile\, des élus locaux et des leaders communautaires. \nLes échanges s’articuleront autour de deux thématiques majeures : \n\n« Femmes rurales\, gardiennes de la terre et de l’environnement ».\n« Accès des femmes rurales aux ressources productives (terre\, eau\, financement\, énergie) ».\n\nCette activité est organisée avec le soutien de la Fondation Ford et Womin.
URL:https://cradesc.org/event/celebration-de-la-journee-internationale-de-la-femme-rurale-a-darou-khoudoss/
LOCATION:Darou Khoudoss\, Tivaouane\, Senegal
CATEGORIES:DESC et Genre,Sécurité alimentaire et résilience
END:VEVENT
BEGIN:VEVENT
DTSTART;TZID=UTC:20251016T090000
DTEND;TZID=UTC:20251016T180000
DTSTAMP:20260421T173156
CREATED:20251013T101855Z
LAST-MODIFIED:20251013T105316Z
UID:3449-1760605200-1760637600@cradesc.org
SUMMARY:Atelier de renforcement des capacités en genre à l’intention des femmes leaders de la zone des Niayes et du delta du Saloum
DESCRIPTION:Le CRADESC organise un atelier de renforcement des capacités en genre à l’intention des femmes leaders de la zone des Niayes et du delta du Saloum le 16 octobre à Mboro. \nL’objectif est de renforcer les capacités en genre de ces actrices de développement pour une meilleure intégration de l’approche genre dans la gouvernance locale et les dynamiques de développement territorial dans leurs localités respectives. \nCette activité s’inscrit dans le cadre du projet CGE-FORD\, piloté par le CRADESC\, qui vise à répondre aux défis auxquels les femmes rurales demeurent confrontées et qui freinent leur émancipation et leur autonomisation. Il s’agit\, entre autres\, de l’accès limité à la terre\, au financement et aux services publics\, aux contraintes liées à l’eau et à l’hygiène\, au manque d’éducation et d’information\, ainsi que la discrimination due aux normes culturelles patriarcales.
URL:https://cradesc.org/event/atelier-de-renforcement-des-capacites-en-genre-a-lintention-des-femmes-leaders-de-la-zone-des-niayes-et-du-delta-du-saloum/
LOCATION:Mboro
CATEGORIES:DESC et Genre
END:VEVENT
BEGIN:VEVENT
DTSTART;TZID=UTC:20251017T090000
DTEND;TZID=UTC:20251017T160000
DTSTAMP:20260421T173156
CREATED:20251013T105614Z
LAST-MODIFIED:20251013T110050Z
UID:3453-1760691600-1760716800@cradesc.org
SUMMARY:Atelier de renforcement des capacités des femmes de la zone des Niayes et du delta du Saloum aux techniques de gestion de fonds rotatifs de microfinance pour l’adaptation au changement climatique
DESCRIPTION:Le CRADESC\, en partenariat avec WoMin\, organise un atelier de renforcement des capacités des femmes de la zone des Niayes et du delta du Saloum aux techniques de gestion de fonds rotatifs de microfinance pour l’adaptation au changement climatique le 17 octobre 2025 à Mboro dans le cadre du projet FACE. \nCe projet vise à renforcer le pouvoir économique et social des femmes face aux impacts du changement climatique\, à travers des actions concrètes d’adaptation\, la promotion de la justice climatique et le respect des droits économiques\, sociaux et culturels. \nL’objectif de l’atelier est de doter les femmes du Delta du Saloum et des Niayes\, spécialement celles de Diossong\, Joal et Kayar d’outils pratiques de gestion financière\, mais aussi de leur permettre de jouer un rôle actif dans la mise en place de solutions collectives et durables pour faire face aux effets du climat. \nCette initiative s’aligne sur les Objectifs de Développement Durable (ODD)\, notamment l’ODD 5 (Égalité entre les sexes)\, l’ODD 8 (Travail décent et croissance économique)\, l’ODD 13 (Lutte contre les changements climatiques) et l’ODD 14 (Vie aquatique).
URL:https://cradesc.org/event/atelier-de-renforcement-des-capacites-des-femmes-de-la-zone-des-niayes-et-du-delta-du-saloum-aux-techniques-de-gestion-de-fonds-rotatifs-de-microfinance-pour-ladaptation-au-changement-climati/
LOCATION:Mboro
CATEGORIES:Changement climatique,Contentieux et justiciabilité des DESC,DESC et Genre
END:VEVENT
BEGIN:VEVENT
DTSTART;VALUE=DATE:20251030
DTEND;VALUE=DATE:20251031
DTSTAMP:20260421T173156
CREATED:20251028T164241Z
LAST-MODIFIED:20251028T164241Z
UID:3486-1761782400-1761868799@cradesc.org
SUMMARY:Assemblée générale constitutive de la société coopérative des acteurs de l’ostréiculture des communes de Fimela\, Joal et Palmarin le 30 octobre 2025 à Palmarin.
DESCRIPTION:Dans le cadre de ses activités d’appui à la structuration des organisations paysannes\, le CRADESC facilitera la tenue de l’assemblée générale constitutive de la société coopérative des ostréiculteurs des communes de Fimela\, Joal et Palmarin le 30 octobre à Palmarin. \nCette rencontre réunira des organisations travaillant dans la récolte\, la transformation et la vente de fruits de mer ; des producteurs individuels ; des autorités administratives\, et bien d’autres acteurs.
URL:https://cradesc.org/event/assemblee-generale-constitutive-de-la-societe-cooperative-des-acteurs-de-lostreiculture-des-communes-de-fimela-joal-et-palmarin-le-30-octobre-2025-a-palmarin/
LOCATION:Palmarin\, Département de Fatick\, Senegal
CATEGORIES:Sécurité alimentaire et résilience
END:VEVENT
END:VCALENDAR