BEGIN:VCALENDAR
VERSION:2.0
PRODID:-//CRADESC - ECPv6.15.20//NONSGML v1.0//EN
CALSCALE:GREGORIAN
METHOD:PUBLISH
X-WR-CALNAME:CRADESC
X-ORIGINAL-URL:https://cradesc.org
X-WR-CALDESC:Évènements pour CRADESC
REFRESH-INTERVAL;VALUE=DURATION:PT1H
X-Robots-Tag:noindex
X-PUBLISHED-TTL:PT1H
BEGIN:VTIMEZONE
TZID:UTC
BEGIN:STANDARD
TZOFFSETFROM:+0000
TZOFFSETTO:+0000
TZNAME:UTC
DTSTART:20240101T000000
END:STANDARD
END:VTIMEZONE
BEGIN:VEVENT
DTSTART;TZID=UTC:20251111T080000
DTEND;TZID=UTC:20251112T163000
DTSTAMP:20260421T190441
CREATED:20251107T111827Z
LAST-MODIFIED:20251107T114429Z
UID:3616-1762848000-1762965000@cradesc.org
SUMMARY:Atelier de renforcement des capacités des communautés sur la documentation des impacts pour le contentieux environnemental dans le Delta du Saloum
DESCRIPTION:Le CRADESC organise un atelier pour renforcer les capacités des parties prenantes sur la documentation des impacts environnementaux pour le contentieux environnemental\, les 11 et 12 Novembre 2025 à Foundiougne\, Delta du Saloum\, avec l’appui de ETF. \nCette activité s’inscrit dans le cadre du projet dénommé : « Protéger le patrimoine mondial du Delta du Saloum de l’exploitation pétrolière à courte vue de Sangomar\, Sénégal ». \nCette rencontre cible principalement les organisations communautaires de base (pêcheurs\, femmes transformatrices\, jeunes)\, les organisations de la société civile locale\, les médias locaux\, les chefs de village et les représentants des institutions étatiques.
URL:https://cradesc.org/event/atelier-de-renforcement-des-capacites-des-communautes-sur-la-documentation-des-impacts-pour-le-contentieux-environnemental-dans-le-delta-du-saloum/
LOCATION:foudiougne\, Senegal
CATEGORIES:Justice climatique et transition énergétique
END:VEVENT
BEGIN:VEVENT
DTSTART;TZID=UTC:20251113T080000
DTEND;TZID=UTC:20251113T163000
DTSTAMP:20260421T190441
CREATED:20251107T114318Z
LAST-MODIFIED:20251107T114318Z
UID:3621-1763020800-1763051400@cradesc.org
SUMMARY:Atelier de validation communautaire du recours réactif par les communautés du Delta du Saloum
DESCRIPTION:Un atelier de validation communautaire du recours réactif par les communautés du Delta du Saloum se tiendra le 13 novembre 2025 à Foundiougne\, dans le Delta du Saloum. \nCet atelier fait suite aux menaces croissantes des projets pétroliers sur le Delta du Saloum\, site inscrit au patrimoine mondial de l’humanité par l’UNESCO en 2011. \nDepuis quelques années\, cette zone fait face à une pression croissante due à des projets extractifs\, en particulier les projets pétroliers et gaziers offshore développés dans les blocs voisins\, dont celui de Sangomar. \nLe CRADESC a initié et accompagné un processus de documentation des impacts et de sensibilisation communautaire et a élaboré un projet de recours fondé sur des investigations de terrain et une analyse critique des dispositifs environnementaux et patrimoniaux applicables.
URL:https://cradesc.org/event/atelier-de-validation-communautaire-du-recours-reactif-par-les-communautes-du-delta-du-saloum/
CATEGORIES:Justice climatique et transition énergétique
END:VEVENT
BEGIN:VEVENT
DTSTART;TZID=UTC:20251119T090000
DTEND;TZID=UTC:20251119T163000
DTSTAMP:20260421T190441
CREATED:20251118T132056Z
LAST-MODIFIED:20251118T132056Z
UID:3712-1763542800-1763569800@cradesc.org
SUMMARY:Atelier de renforcement des capacités en techniques entrepreneuriales innovantes et en transformation de produits halieutiques\, de fruits\, légumes et céréales
DESCRIPTION:Un atelier de renforcement des capacités en techniques entrepreneuriales innovantes et en transformation de produits halieutiques\, de fruits\, légumes et céréales se tiendra le 19 novembre à Foundiougne. \nL’objectif est de renforcer les compétences des femmes dans une perspective de durabilité et d’innovation. \nLa rencontre réunira des femmes transformatrices issues des zones côtières et rurales\, de jeunes entrepreneures\, des responsables de groupements économiques féminins et coopératives locales de femmes et des représentants d’organisations communautaires de femmes. \nElle est organisée par le CRADESC en partenariat avec WoMin African Alliance.
URL:https://cradesc.org/event/atelier-de-renforcement-des-capacites-en-techniques-entrepreneuriales-innovantes-et-en-transformation-de-produits-halieutiques-de-fruits-legumes-et-cereales/
CATEGORIES:Changement climatique,DESC et Genre,Sécurité alimentaire et résilience
END:VEVENT
END:VCALENDAR