BEGIN:VCALENDAR
VERSION:2.0
PRODID:-//CRADESC - ECPv6.15.20//NONSGML v1.0//EN
CALSCALE:GREGORIAN
METHOD:PUBLISH
X-WR-CALNAME:CRADESC
X-ORIGINAL-URL:https://cradesc.org
X-WR-CALDESC:Évènements pour CRADESC
REFRESH-INTERVAL;VALUE=DURATION:PT1H
X-Robots-Tag:noindex
X-PUBLISHED-TTL:PT1H
BEGIN:VTIMEZONE
TZID:UTC
BEGIN:STANDARD
TZOFFSETFROM:+0000
TZOFFSETTO:+0000
TZNAME:UTC
DTSTART:20250101T000000
END:STANDARD
END:VTIMEZONE
BEGIN:VEVENT
DTSTART;TZID=UTC:20260427T083000
DTEND;TZID=UTC:20260427T170000
DTSTAMP:20260424T153838
CREATED:20260424T112147Z
LAST-MODIFIED:20260424T112755Z
UID:4228-1777278600-1777309200@cradesc.org
SUMMARY:Atelier de renforcement des capacités des leaders communautaires de la zone des Niayes pour une meilleure intégration de l’approche genre\, le 27 avril à Thiès
DESCRIPTION:Dans le cadre de la mise en œuvre du projet Centering Gender Justice in Extractive Sector Governance in West Africa (CGE)\, le CRADESC organise un atelier de renforcement des capacités des leaders des organisations communautaires de la zone des Niayes pour une meilleure intégration de l’approche genre\, le 27 avril à l’hôtel Majorelle de Thiès. \nParticipent à cette rencontre : le Cadre de Coopération et de Développement des Niayes (CCDN)\, l’Union des Sociétés Coopératives des Niayes (USCN)\, le Réseau National des Femmes Rurales du Sénégal (RNFRS) et la Coopérative des Handicapés Agriculteurs de la Zone des Niayes (COOPHAZONI). \nLes échanges porteront sur les stratégies visant à renforcer l’autonomisation des femmes rurales et à promouvoir leur participation au développement économique et social du Sénégal. \nLe projet Centering Gender Justice in Extractive Sector Governance in West Africa (CGE) ( Placer la justice de genre au cœur de la gouvernance du secteur extractif en Afrique de l’Ouest ) est soutenu par la Fondation Ford. Il vise à renforcer l’intégration systématique du genre dans le secteur extractif en promouvant une gouvernance inclusive\, un engagement communautaire sensible au genre et des réformes institutionnelles pour une meilleure prise en charge des inégalités entre les femmes et les hommes dans les politiques et pratiques sociales. \nLe CRADESC fait partie des six organisations bénéficiaires de ce fonds.
URL:https://cradesc.org/event/atelier-de-renforcement-des-capacites-des-leaders-communautaires-de-la-zone-des-niayes-pour-une-meilleure-integration-de-lapproche-genre-le-27-avril-a-thies/
LOCATION:Thies\, Hôtel Majorelle\, Senegal
CATEGORIES:DESC et Genre,Sécurité alimentaire et résilience
END:VEVENT
BEGIN:VEVENT
DTSTART;TZID=UTC:20260429T083000
DTEND;TZID=UTC:20260430T170000
DTSTAMP:20260424T153838
CREATED:20260424T114258Z
LAST-MODIFIED:20260424T114258Z
UID:4233-1777451400-1777568400@cradesc.org
SUMMARY:Atelier de renforcement des capacités des leaders des sociétés coopératives du Delta du Saloum sur le genre et la gestion administrative et financière\, les 29 et 30 avril à Palmarin
DESCRIPTION:Dans le cadre de la mise en œuvre du projet Centering Gender Justice in Extractive Sector Governance in West Africa (CGE)\, le CRADESC organise un atelier de renforcement des capacités des leaders des sociétés coopératives d’apiculture et d’ostréiculture du Delta du Saloum sur le genre et la gestion administrative et financière\, les 29 et 30 avril à Palmarin. \nCette rencontre vise à renforcer leurs compétences afin d’améliorer la gouvernance et la performance de leurs organisations\, en particulier face aux limites liées à la prise en compte du genre dans la gouvernance et les activités économiques. \nLe projet Centering Gender Justice in Extractive Sector Governance in West Africa (CGE) ( Placer la justice de genre au cœur de la gouvernance du secteur extractif en Afrique de l’Ouest ) est soutenu par la Fondation Ford. Il vise à renforcer l’intégration systématique du genre dans le secteur extractif en promouvant une gouvernance inclusive\, un engagement communautaire sensible au genre et des réformes institutionnelles pour une meilleure prise en charge des inégalités entre les femmes et les hommes dans les politiques et pratiques sociales. \nLe CRADESC fait partie des six organisations bénéficiaires de ce fonds.
URL:https://cradesc.org/event/atelier-de-renforcement-des-capacites-des-leaders-des-societes-cooperatives-du-delta-du-saloum-sur-le-genre-et-la-gestion-administrative-et-financiere-les-29-et-30-avril-a-palmarin/
LOCATION:Palmarin\, Delta du Saloum\, Senegal
CATEGORIES:DESC et Genre,Sécurité alimentaire et résilience
END:VEVENT
END:VCALENDAR